Package: BioNAR Version: 1.6.3 Command: /Library/Frameworks/R.framework/Resources/bin/R CMD build --keep-empty-dirs --no-resave-data BioNAR StartedAt: 2024-10-16 20:27:47 -0400 (Wed, 16 Oct 2024) EndedAt: 2024-10-16 20:30:43 -0400 (Wed, 16 Oct 2024) EllapsedTime: 176.3 seconds RetCode: 0 Status: OK PackageFile: BioNAR_1.6.3.tar.gz PackageFileSize: 3.634 MiB