Package: BioNAR Version: 1.6.0 Command: /home/biocbuild/R/R-beta-2024-04-15_r86425/bin/R CMD INSTALL BioNAR StartedAt: 2024-05-08 20:47:44 -0000 (Wed, 08 May 2024) EndedAt: 2024-05-08 20:48:20 -0000 (Wed, 08 May 2024) EllapsedTime: 36.0 seconds RetCode: 0 Status: OK