Package: BioNAR Version: 1.6.0 Command: rm -rf BioNAR.buildbin-libdir && mkdir BioNAR.buildbin-libdir && /Users/biocbuild/BBS/utils/build-universal.sh BioNAR_1.6.0.tar.gz /Library/Frameworks/R.framework/Resources/bin/R BioNAR.buildbin-libdir StartedAt: 2024-06-10 00:08:48 -0400 (Mon, 10 Jun 2024) EndedAt: 2024-06-10 00:09:26 -0400 (Mon, 10 Jun 2024) EllapsedTime: 38.0 seconds RetCode: 0 Status: OK PackageFile: BioNAR_1.6.0.tgz PackageFileSize: 4.113 MiB