Package: BioNAR Version: 1.6.0 Command: /Library/Frameworks/R.framework/Resources/bin/R CMD check --install=check:BioNAR.install-out.txt --library=/Library/Frameworks/R.framework/Resources/library --no-vignettes --timings BioNAR_1.6.0.tar.gz StartedAt: 2024-06-09 19:02:50 -0400 (Sun, 09 Jun 2024) EndedAt: 2024-06-09 19:13:07 -0400 (Sun, 09 Jun 2024) EllapsedTime: 617.0 seconds RetCode: 0 Status: OK CheckDir: BioNAR.Rcheck Warnings: 0