Package: BioNAR Version: 1.6.3 Command: /Library/Frameworks/R.framework/Resources/bin/R CMD build --keep-empty-dirs --no-resave-data BioNAR StartedAt: 2024-10-16 17:30:45 -0400 (Wed, 16 Oct 2024) EndedAt: 2024-10-16 17:35:18 -0400 (Wed, 16 Oct 2024) EllapsedTime: 272.4 seconds RetCode: 0 Status: OK PackageFile: BioNAR_1.6.3.tar.gz PackageFileSize: 3.622 MiB