Package: BioNAR Version: 1.6.3 Command: /home/biocbuild/bbs-3.19-bioc/R/bin/R CMD check --install=check:BioNAR.install-out.txt --library=/home/biocbuild/bbs-3.19-bioc/R/site-library --timings BioNAR_1.6.3.tar.gz StartedAt: 2024-10-16 22:10:27 -0400 (Wed, 16 Oct 2024) EndedAt: 2024-10-16 22:17:46 -0400 (Wed, 16 Oct 2024) EllapsedTime: 438.9 seconds RetCode: 0 Status: OK CheckDir: BioNAR.Rcheck Warnings: 0