Package: BioNAR Version: 1.6.0 Command: rm -rf BioNAR.buildbin-libdir && mkdir BioNAR.buildbin-libdir && F:\biocbuild\bbs-3.19-bioc\R\bin\R.exe CMD INSTALL --build --library=BioNAR.buildbin-libdir BioNAR_1.6.0.tar.gz StartedAt: 2024-06-27 07:54:33 -0400 (Thu, 27 Jun 2024) EndedAt: 2024-06-27 07:55:14 -0400 (Thu, 27 Jun 2024) EllapsedTime: 41.4 seconds RetCode: 0 Status: OK PackageFile: BioNAR_1.6.0.zip PackageFileSize: 3.115 MiB