Package: BioNAR Version: 1.6.3 Command: chmod a+r BioNAR -R && E:\biocbuild\bbs-3.19-bioc\R\bin\R.exe CMD build --keep-empty-dirs --no-resave-data BioNAR StartedAt: 2024-10-16 17:53:48 -0400 (Wed, 16 Oct 2024) EndedAt: 2024-10-16 17:58:33 -0400 (Wed, 16 Oct 2024) EllapsedTime: 284.3 seconds RetCode: 0 Status: OK PackageFile: BioNAR_1.6.3.tar.gz PackageFileSize: 2.622 MiB