Package: BioNERO Version: 1.12.0 Command: /home/biocbuild/bbs-3.19-bioc/R/bin/R CMD build --keep-empty-dirs --no-resave-data BioNERO StartedAt: 2024-10-16 17:16:43 -0400 (Wed, 16 Oct 2024) EndedAt: 2024-10-16 17:21:07 -0400 (Wed, 16 Oct 2024) EllapsedTime: 263.4 seconds RetCode: 0 Status: OK PackageFile: BioNERO_1.12.0.tar.gz PackageFileSize: 4.578 MiB