Package: BioNERO Version: 1.12.0 Command: E:\biocbuild\bbs-3.19-bioc\R\bin\R.exe CMD check --no-multiarch --install=check:BioNERO.install-out.txt --library=E:\biocbuild\bbs-3.19-bioc\R\library --no-vignettes --timings BioNERO_1.12.0.tar.gz StartedAt: 2024-10-16 23:22:11 -0400 (Wed, 16 Oct 2024) EndedAt: 2024-10-16 23:33:10 -0400 (Wed, 16 Oct 2024) EllapsedTime: 659.2 seconds RetCode: 0 Status: OK CheckDir: BioNERO.Rcheck Warnings: 0