Package: BioNERO Version: 1.12.0 Command: E:\biocbuild\bbs-3.19-bioc\R\bin\R.exe CMD INSTALL BioNERO StartedAt: 2024-10-16 17:15:33 -0400 (Wed, 16 Oct 2024) EndedAt: 2024-10-16 17:16:28 -0400 (Wed, 16 Oct 2024) EllapsedTime: 54.8 seconds RetCode: 0 Status: OK