Package: BioNet Version: 1.64.0 Command: /Library/Frameworks/R.framework/Resources/bin/R CMD check --install=check:BioNet.install-out.txt --library=/Library/Frameworks/R.framework/Resources/library --no-vignettes --timings BioNet_1.64.0.tar.gz StartedAt: 2024-06-10 08:56:32 -0400 (Mon, 10 Jun 2024) EndedAt: 2024-06-10 09:00:05 -0400 (Mon, 10 Jun 2024) EllapsedTime: 213.3 seconds RetCode: 0 Status: OK CheckDir: BioNet.Rcheck Warnings: 0