Package: BioNet Version: 1.64.0 Command: /home/biocbuild/R/R-beta-2024-04-15_r86425/bin/R CMD build --keep-empty-dirs --no-resave-data BioNet StartedAt: 2024-05-08 22:48:17 -0000 (Wed, 08 May 2024) EndedAt: 2024-05-08 22:49:21 -0000 (Wed, 08 May 2024) EllapsedTime: 64.1 seconds RetCode: 0 Status: OK PackageFile: BioNet_1.64.0.tar.gz PackageFileSize: 1.791 MiB