Package: BioNet Version: 1.64.0 Command: /home/biocbuild/R/R-beta-2024-04-15_r86425/bin/R CMD check --install=check:BioNet.install-out.txt --library=/home/biocbuild/R/R-beta-2024-04-15_r86425/site-library --no-vignettes --timings BioNet_1.64.0.tar.gz StartedAt: 2024-05-09 05:19:34 -0000 (Thu, 09 May 2024) EndedAt: 2024-05-09 05:22:44 -0000 (Thu, 09 May 2024) EllapsedTime: 189.4 seconds RetCode: 0 Status: OK CheckDir: BioNet.Rcheck Warnings: 0