Package: BioNet Version: 1.64.0 Command: rm -rf BioNet.buildbin-libdir && mkdir BioNet.buildbin-libdir && /Users/biocbuild/BBS/utils/build-universal.sh BioNet_1.64.0.tar.gz /Library/Frameworks/R.framework/Resources/bin/R BioNet.buildbin-libdir StartedAt: 2024-10-17 15:43:49 -0400 (Thu, 17 Oct 2024) EndedAt: 2024-10-17 15:44:27 -0400 (Thu, 17 Oct 2024) EllapsedTime: 38.2 seconds RetCode: 0 Status: OK PackageFile: BioNet_1.64.0.tgz PackageFileSize: 1.525 MiB