Package: BioNet Version: 1.64.0 Command: /Library/Frameworks/R.framework/Resources/bin/R CMD build --keep-empty-dirs --no-resave-data BioNet StartedAt: 2024-10-16 17:30:56 -0400 (Wed, 16 Oct 2024) EndedAt: 2024-10-16 17:33:10 -0400 (Wed, 16 Oct 2024) EllapsedTime: 133.4 seconds RetCode: 0 Status: OK PackageFile: BioNet_1.64.0.tar.gz PackageFileSize: 1.802 MiB