Package: BioNet Version: 1.64.0 Command: /home/biocbuild/bbs-3.19-bioc/R/bin/R CMD build --keep-empty-dirs --no-resave-data BioNet StartedAt: 2024-10-16 17:16:45 -0400 (Wed, 16 Oct 2024) EndedAt: 2024-10-16 17:17:31 -0400 (Wed, 16 Oct 2024) EllapsedTime: 46.1 seconds RetCode: 0 Status: OK PackageFile: BioNet_1.64.0.tar.gz PackageFileSize: 1.61 MiB