Package: BioNet Version: 1.64.0 Command: /home/biocbuild/bbs-3.19-bioc/R/bin/R CMD INSTALL BioNet StartedAt: 2024-10-16 16:01:52 -0400 (Wed, 16 Oct 2024) EndedAt: 2024-10-16 16:02:05 -0400 (Wed, 16 Oct 2024) EllapsedTime: 13.2 seconds RetCode: 0 Status: OK