Package: BioNetStat Version: 1.24.0 Command: rm -rf BioNetStat.buildbin-libdir && mkdir BioNetStat.buildbin-libdir && /Users/biocbuild/BBS/utils/build-universal.sh BioNetStat_1.24.0.tar.gz /Library/Frameworks/R.framework/Resources/bin/R BioNetStat.buildbin-libdir StartedAt: 2024-10-18 17:32:17 -0400 (Fri, 18 Oct 2024) EndedAt: 2024-10-18 17:32:48 -0400 (Fri, 18 Oct 2024) EllapsedTime: 30.9 seconds RetCode: 0 Status: OK PackageFile: BioNetStat_1.24.0.tgz PackageFileSize: 3.009 MiB