Package: BioNetStat Version: 1.24.0 Command: /Library/Frameworks/R.framework/Resources/bin/R CMD build --keep-empty-dirs --no-resave-data BioNetStat StartedAt: 2024-10-16 20:30:02 -0400 (Wed, 16 Oct 2024) EndedAt: 2024-10-16 20:30:30 -0400 (Wed, 16 Oct 2024) EllapsedTime: 27.6 seconds RetCode: 0 Status: OK PackageFile: BioNetStat_1.24.0.tar.gz PackageFileSize: 2.88 MiB