Package: BioNetStat Version: 1.24.0 Command: /Library/Frameworks/R.framework/Resources/bin/R CMD INSTALL BioNetStat StartedAt: 2024-10-16 17:34:07 -0400 (Wed, 16 Oct 2024) EndedAt: 2024-10-16 17:34:29 -0400 (Wed, 16 Oct 2024) EllapsedTime: 22.2 seconds RetCode: 0 Status: OK