Package: BioNetStat Version: 1.24.0 Command: /Library/Frameworks/R.framework/Resources/bin/R CMD check --install=check:BioNetStat.install-out.txt --library=/Library/Frameworks/R.framework/Resources/library --no-vignettes --timings BioNetStat_1.24.0.tar.gz StartedAt: 2024-06-10 08:56:35 -0400 (Mon, 10 Jun 2024) EndedAt: 2024-06-10 09:00:23 -0400 (Mon, 10 Jun 2024) EllapsedTime: 227.6 seconds RetCode: 1 Status: ERROR CheckDir: BioNetStat.Rcheck Warnings: NA