Package: BioQC Version: 1.32.0 Command: rm -rf BioQC.buildbin-libdir && mkdir BioQC.buildbin-libdir && /Users/biocbuild/BBS/utils/build-universal.sh BioQC_1.32.0.tar.gz /Library/Frameworks/R.framework/Resources/bin/R BioQC.buildbin-libdir StartedAt: 2024-06-10 00:08:51 -0400 (Mon, 10 Jun 2024) EndedAt: 2024-06-10 00:09:14 -0400 (Mon, 10 Jun 2024) EllapsedTime: 23.6 seconds RetCode: 0 Status: OK PackageFile: BioQC_1.32.0.tgz PackageFileSize: 4.112 MiB