Package: BiocGenerics Version: 0.50.0 Command: rm -rf BiocGenerics.buildbin-libdir && mkdir BiocGenerics.buildbin-libdir && /Users/biocbuild/BBS/utils/build-universal.sh BiocGenerics_0.50.0.tar.gz /Library/Frameworks/R.framework/Resources/bin/R BiocGenerics.buildbin-libdir StartedAt: 2024-10-18 17:29:39 -0400 (Fri, 18 Oct 2024) EndedAt: 2024-10-18 17:29:47 -0400 (Fri, 18 Oct 2024) EllapsedTime: 8.5 seconds RetCode: 0 Status: OK PackageFile: BiocGenerics_0.50.0.tgz PackageFileSize: 587.8 KiB