Package: BiocGenerics Version: 0.50.0 Command: /Library/Frameworks/R.framework/Resources/bin/R CMD INSTALL BiocGenerics StartedAt: 2024-10-16 15:05:50 -0400 (Wed, 16 Oct 2024) EndedAt: 2024-10-16 15:06:01 -0400 (Wed, 16 Oct 2024) EllapsedTime: 11.3 seconds RetCode: 0 Status: OK