Package: BiocGenerics Version: 0.50.0 Command: /home/biocbuild/bbs-3.19-bioc/R/bin/R CMD build --keep-empty-dirs --no-resave-data BiocGenerics StartedAt: 2024-10-16 17:12:07 -0400 (Wed, 16 Oct 2024) EndedAt: 2024-10-16 17:12:08 -0400 (Wed, 16 Oct 2024) EllapsedTime: 1.0 seconds RetCode: 0 Status: OK PackageFile: BiocGenerics_0.50.0.tar.gz PackageFileSize: 48.37 KiB