Package: BiocGenerics Version: 0.50.0 Command: /home/biocbuild/bbs-3.19-bioc/R/bin/R CMD check --install=check:BiocGenerics.install-out.txt --library=/home/biocbuild/bbs-3.19-bioc/R/site-library --timings BiocGenerics_0.50.0.tar.gz StartedAt: 2024-10-16 22:02:41 -0400 (Wed, 16 Oct 2024) EndedAt: 2024-10-16 22:03:42 -0400 (Wed, 16 Oct 2024) EllapsedTime: 61.1 seconds RetCode: 0 Status: WARNINGS CheckDir: BiocGenerics.Rcheck Warnings: 2