Package: BiocGenerics Version: 0.50.0 Command: chmod a+r BiocGenerics -R && F:\biocbuild\bbs-3.19-bioc\R\bin\R.exe CMD build --keep-empty-dirs --no-resave-data BiocGenerics StartedAt: 2024-06-26 17:23:57 -0400 (Wed, 26 Jun 2024) EndedAt: 2024-06-26 17:24:02 -0400 (Wed, 26 Jun 2024) EllapsedTime: 4.4 seconds RetCode: 0 Status: OK PackageFile: BiocGenerics_0.50.0.tar.gz PackageFileSize: 48.39 KiB