Package: BiocHubsShiny Version: 1.4.0 Command: /Library/Frameworks/R.framework/Resources/bin/R CMD INSTALL BiocHubsShiny StartedAt: 2024-10-16 16:05:17 -0400 (Wed, 16 Oct 2024) EndedAt: 2024-10-16 16:05:52 -0400 (Wed, 16 Oct 2024) EllapsedTime: 34.8 seconds RetCode: 0 Status: OK