Package: BiocHubsShiny Version: 1.4.0 Command: rm -rf BiocHubsShiny.buildbin-libdir && mkdir BiocHubsShiny.buildbin-libdir && F:\biocbuild\bbs-3.19-bioc\R\bin\R.exe CMD INSTALL --build --library=BiocHubsShiny.buildbin-libdir BiocHubsShiny_1.4.0.tar.gz StartedAt: 2024-06-27 07:53:37 -0400 (Thu, 27 Jun 2024) EndedAt: 2024-06-27 07:53:56 -0400 (Thu, 27 Jun 2024) EllapsedTime: 18.8 seconds RetCode: 0 Status: OK PackageFile: BiocHubsShiny_1.4.0.zip PackageFileSize: 742.9 KiB