Package: BiocHubsShiny Version: 1.4.0 Command: chmod a+r BiocHubsShiny -R && E:\biocbuild\bbs-3.19-bioc\R\bin\R.exe CMD build --keep-empty-dirs --no-resave-data BiocHubsShiny StartedAt: 2024-10-16 17:49:47 -0400 (Wed, 16 Oct 2024) EndedAt: 2024-10-16 17:50:15 -0400 (Wed, 16 Oct 2024) EllapsedTime: 27.8 seconds RetCode: 0 Status: OK PackageFile: BiocHubsShiny_1.4.0.tar.gz PackageFileSize: 1.602 MiB