Package: BiocOncoTK Version: 1.24.0 Command: /Library/Frameworks/R.framework/Resources/bin/R CMD check --install=check:BiocOncoTK.install-out.txt --library=/Library/Frameworks/R.framework/Resources/library --no-vignettes --timings BiocOncoTK_1.24.0.tar.gz StartedAt: 2024-10-17 13:53:54 -0400 (Thu, 17 Oct 2024) EndedAt: 2024-10-17 14:02:49 -0400 (Thu, 17 Oct 2024) EllapsedTime: 534.6 seconds RetCode: 0 Status: OK CheckDir: BiocOncoTK.Rcheck Warnings: 0