Package: BiocSet Version: 1.18.0 Command: /home/biocbuild/R/R-beta-2024-04-15_r86425/bin/R CMD build --keep-empty-dirs --no-resave-data BiocSet StartedAt: 2024-05-08 22:44:56 -0000 (Wed, 08 May 2024) EndedAt: 2024-05-08 22:48:00 -0000 (Wed, 08 May 2024) EllapsedTime: 184.2 seconds RetCode: 0 Status: OK PackageFile: BiocSet_1.18.0.tar.gz PackageFileSize: 427 KiB