Package: BiocSet Version: 1.18.0 Command: /Library/Frameworks/R.framework/Resources/bin/R CMD build --keep-empty-dirs --no-resave-data BiocSet StartedAt: 2024-10-16 17:26:29 -0400 (Wed, 16 Oct 2024) EndedAt: 2024-10-16 17:31:12 -0400 (Wed, 16 Oct 2024) EllapsedTime: 283.4 seconds RetCode: 0 Status: OK PackageFile: BiocSet_1.18.0.tar.gz PackageFileSize: 358.9 KiB