Package: BiocSet Version: 1.18.0 Command: chmod a+r BiocSet -R && E:\biocbuild\bbs-3.19-bioc\R\bin\R.exe CMD build --keep-empty-dirs --no-resave-data BiocSet StartedAt: 2024-10-16 17:50:27 -0400 (Wed, 16 Oct 2024) EndedAt: 2024-10-16 17:53:32 -0400 (Wed, 16 Oct 2024) EllapsedTime: 185.0 seconds RetCode: 0 Status: OK PackageFile: BiocSet_1.18.0.tar.gz PackageFileSize: 359.4 KiB