Package: BiocSet Version: 1.18.0 Command: E:\biocbuild\bbs-3.19-bioc\R\bin\R.exe CMD INSTALL BiocSet StartedAt: 2024-10-16 16:16:39 -0400 (Wed, 16 Oct 2024) EndedAt: 2024-10-16 16:17:09 -0400 (Wed, 16 Oct 2024) EllapsedTime: 30.8 seconds RetCode: 0 Status: OK