Package: BiocStyle Version: 2.32.1 Maintainer: Bioconductor Package MaintainerEmail: maintainer at bioconductor.org git_url: https://git.bioconductor.org/packages/BiocStyle git_branch: RELEASE_3_19 git_last_commit: bd5e829 git_last_commit_date: 2024-06-15 16:44:24 -0400 (Sat, 15 Jun 2024)