Package: BiocStyle Version: 2.32.0 Command: rm -rf BiocStyle.buildbin-libdir && mkdir BiocStyle.buildbin-libdir && /Users/biocbuild/BBS/utils/build-universal.sh BiocStyle_2.32.0.tar.gz /Library/Frameworks/R.framework/Resources/bin/R BiocStyle.buildbin-libdir StartedAt: 2024-06-10 00:08:36 -0400 (Mon, 10 Jun 2024) EndedAt: 2024-06-10 00:08:43 -0400 (Mon, 10 Jun 2024) EllapsedTime: 7.0 seconds RetCode: 0 Status: OK PackageFile: BiocStyle_2.32.0.tgz PackageFileSize: 831.9 KiB