Package: BiocStyle Version: 2.32.1 Command: F:\biocbuild\bbs-3.19-bioc\R\bin\R.exe CMD INSTALL BiocStyle StartedAt: 2024-06-26 16:19:07 -0400 (Wed, 26 Jun 2024) EndedAt: 2024-06-26 16:19:14 -0400 (Wed, 26 Jun 2024) EllapsedTime: 7.5 seconds RetCode: 0 Status: OK