Package: BiocStyle Version: 2.32.1 Command: rm -rf BiocStyle.buildbin-libdir && mkdir BiocStyle.buildbin-libdir && E:\biocbuild\bbs-3.19-bioc\R\bin\R.exe CMD INSTALL --build --library=BiocStyle.buildbin-libdir BiocStyle_2.32.1.tar.gz StartedAt: 2024-10-17 07:24:58 -0400 (Thu, 17 Oct 2024) EndedAt: 2024-10-17 07:25:24 -0400 (Thu, 17 Oct 2024) EllapsedTime: 26.4 seconds RetCode: 0 Status: OK PackageFile: BiocStyle_2.32.1.zip PackageFileSize: 793.8 KiB