Package: BiocStyle Version: 2.32.1 Command: chmod a+r BiocStyle -R && E:\biocbuild\bbs-3.19-bioc\R\bin\R.exe CMD build --keep-empty-dirs --no-resave-data BiocStyle StartedAt: 2024-10-16 17:50:41 -0400 (Wed, 16 Oct 2024) EndedAt: 2024-10-16 17:51:18 -0400 (Wed, 16 Oct 2024) EllapsedTime: 37.0 seconds RetCode: 0 Status: OK PackageFile: BiocStyle_2.32.1.tar.gz PackageFileSize: 710.5 KiB