Package: BubbleTree Version: 2.34.0 Command: /Library/Frameworks/R.framework/Resources/bin/R CMD build --keep-empty-dirs --no-resave-data BubbleTree StartedAt: 2024-10-16 20:42:09 -0400 (Wed, 16 Oct 2024) EndedAt: 2024-10-16 20:45:08 -0400 (Wed, 16 Oct 2024) EllapsedTime: 179.6 seconds RetCode: 0 Status: OK PackageFile: BubbleTree_2.34.0.tar.gz PackageFileSize: 27.91 MiB