Package: BubbleTree Version: 2.34.0 Command: rm -rf BubbleTree.buildbin-libdir && mkdir BubbleTree.buildbin-libdir && /Users/biocbuild/BBS/utils/build-universal.sh BubbleTree_2.34.0.tar.gz /Library/Frameworks/R.framework/Resources/bin/R BubbleTree.buildbin-libdir StartedAt: 2024-06-11 10:24:34 -0400 (Tue, 11 Jun 2024) EndedAt: 2024-06-11 10:26:23 -0400 (Tue, 11 Jun 2024) EllapsedTime: 109.6 seconds RetCode: 0 Status: OK PackageFile: BubbleTree_2.34.0.tgz PackageFileSize: 27.78 MiB