Package: BubbleTree Version: 2.34.0 Command: /home/biocbuild/R/R-beta-2024-04-15_r86425/bin/R CMD build --keep-empty-dirs --no-resave-data BubbleTree StartedAt: 2024-05-08 22:58:48 -0000 (Wed, 08 May 2024) EndedAt: 2024-05-08 23:02:24 -0000 (Wed, 08 May 2024) EllapsedTime: 216.3 seconds RetCode: 0 Status: OK PackageFile: BubbleTree_2.34.0.tar.gz PackageFileSize: 25.57 MiB