Package: BubbleTree Version: 2.34.0 Command: /Library/Frameworks/R.framework/Resources/bin/R CMD build --keep-empty-dirs --no-resave-data BubbleTree StartedAt: 2024-06-09 16:03:30 -0400 (Sun, 09 Jun 2024) EndedAt: 2024-06-09 16:06:01 -0400 (Sun, 09 Jun 2024) EllapsedTime: 150.7 seconds RetCode: 0 Status: OK PackageFile: BubbleTree_2.34.0.tar.gz PackageFileSize: 27.85 MiB