Package: BubbleTree Version: 2.34.0 Command: /home/biocbuild/bbs-3.19-bioc/R/bin/R CMD build --keep-empty-dirs --no-resave-data BubbleTree StartedAt: 2024-10-16 17:24:29 -0400 (Wed, 16 Oct 2024) EndedAt: 2024-10-16 17:26:51 -0400 (Wed, 16 Oct 2024) EllapsedTime: 142.2 seconds RetCode: 0 Status: OK PackageFile: BubbleTree_2.34.0.tar.gz PackageFileSize: 27.45 MiB