Package: BubbleTree Version: 2.34.0 Command: /home/biocbuild/bbs-3.19-bioc/R/bin/R CMD INSTALL BubbleTree StartedAt: 2024-10-16 16:19:58 -0400 (Wed, 16 Oct 2024) EndedAt: 2024-10-16 16:20:48 -0400 (Wed, 16 Oct 2024) EllapsedTime: 49.6 seconds RetCode: 0 Status: OK