Package: BubbleTree Version: 2.34.0 Command: chmod a+r BubbleTree -R && E:\biocbuild\bbs-3.19-bioc\R\bin\R.exe CMD build --keep-empty-dirs --no-resave-data BubbleTree StartedAt: 2024-10-16 17:59:02 -0400 (Wed, 16 Oct 2024) EndedAt: 2024-10-16 18:03:08 -0400 (Wed, 16 Oct 2024) EllapsedTime: 246.4 seconds RetCode: 0 Status: OK PackageFile: BubbleTree_2.34.0.tar.gz PackageFileSize: 26.12 MiB