Package: BubbleTree Version: 2.34.0 Command: E:\biocbuild\bbs-3.19-bioc\R\bin\R.exe CMD INSTALL BubbleTree StartedAt: 2024-10-16 16:45:33 -0400 (Wed, 16 Oct 2024) EndedAt: 2024-10-16 16:46:38 -0400 (Wed, 16 Oct 2024) EllapsedTime: 65.6 seconds RetCode: 0 Status: OK