Package: BufferedMatrix Version: 1.68.0 Command: rm -rf BufferedMatrix.buildbin-libdir && mkdir BufferedMatrix.buildbin-libdir && E:\biocbuild\bbs-3.19-bioc\R\bin\R.exe CMD INSTALL --build --library=BufferedMatrix.buildbin-libdir BufferedMatrix_1.68.0.tar.gz StartedAt: 2024-10-17 07:27:47 -0400 (Thu, 17 Oct 2024) EndedAt: 2024-10-17 07:29:40 -0400 (Thu, 17 Oct 2024) EllapsedTime: 112.7 seconds RetCode: 0 Status: OK PackageFile: BufferedMatrix_1.68.0.zip PackageFileSize: 570.9 KiB